BEGIN:VCALENDAR
VERSION:2.0
PRODID:-//Arqshoah - ECPv6.13.2.1//NONSGML v1.0//EN
CALSCALE:GREGORIAN
METHOD:PUBLISH
X-ORIGINAL-URL:https://www.arqshoah.com
X-WR-CALDESC:Eventos para Arqshoah
REFRESH-INTERVAL;VALUE=DURATION:PT1H
X-Robots-Tag:noindex
X-PUBLISHED-TTL:PT1H
BEGIN:VTIMEZONE
TZID:America/Sao_Paulo
BEGIN:STANDARD
TZOFFSETFROM:-0200
TZOFFSETTO:-0300
TZNAME:-03
DTSTART:20130217T020000
END:STANDARD
BEGIN:DAYLIGHT
TZOFFSETFROM:-0300
TZOFFSETTO:-0200
TZNAME:-02
DTSTART:20131020T030000
END:DAYLIGHT
BEGIN:STANDARD
TZOFFSETFROM:-0200
TZOFFSETTO:-0300
TZNAME:-03
DTSTART:20140216T020000
END:STANDARD
BEGIN:DAYLIGHT
TZOFFSETFROM:-0300
TZOFFSETTO:-0200
TZNAME:-02
DTSTART:20141019T030000
END:DAYLIGHT
BEGIN:STANDARD
TZOFFSETFROM:-0200
TZOFFSETTO:-0300
TZNAME:-03
DTSTART:20150222T020000
END:STANDARD
BEGIN:DAYLIGHT
TZOFFSETFROM:-0300
TZOFFSETTO:-0200
TZNAME:-02
DTSTART:20151018T030000
END:DAYLIGHT
BEGIN:STANDARD
TZOFFSETFROM:-0200
TZOFFSETTO:-0300
TZNAME:-03
DTSTART:20160221T020000
END:STANDARD
BEGIN:DAYLIGHT
TZOFFSETFROM:-0300
TZOFFSETTO:-0200
TZNAME:-02
DTSTART:20161016T030000
END:DAYLIGHT
BEGIN:STANDARD
TZOFFSETFROM:-0200
TZOFFSETTO:-0300
TZNAME:-03
DTSTART:20170219T020000
END:STANDARD
BEGIN:DAYLIGHT
TZOFFSETFROM:-0300
TZOFFSETTO:-0200
TZNAME:-02
DTSTART:20171015T030000
END:DAYLIGHT
END:VTIMEZONE
BEGIN:VEVENT
DTSTART;TZID=America/Sao_Paulo:20170428T100000
DTEND;TZID=America/Sao_Paulo:20170428T173000
DTSTAMP:20260423T103813
CREATED:20210429T202335Z
LAST-MODIFIED:20210508T221048Z
UID:331-1493373600-1493400600@www.arqshoah.com
SUMMARY:Deslocamentos Humanos
DESCRIPTION:
URL:https://www.arqshoah.com/evento/deslocamentos-humanos/
LOCATION:Auditório Nicolau Sevcenko\, Avenida Professor Lineu Prestes\, 338\, São Paulo\, São Paulo\, 05508-000\, Brasil
CATEGORIES:Seminários Colóquios e Palestras
ATTACH;FMTTYPE=image/png:https://www.arqshoah.com/wp-content/uploads/2021/04/Seminário-Deslocamentos-Humanos-1.png
ORGANIZER;CN="Laborat%C3%B3rio de Estudos sobre Etnicidade%2C Racismo e Discrimina%C3%A7%C3%A3o":MAILTO:leer@usp.br
END:VEVENT
BEGIN:VEVENT
DTSTART;TZID=America/Sao_Paulo:20170316T183000
DTEND;TZID=America/Sao_Paulo:20170316T213000
DTSTAMP:20260423T103813
CREATED:20210501T191254Z
LAST-MODIFIED:20210508T221137Z
UID:445-1489689000-1489699800@www.arqshoah.com
SUMMARY:Uma Marcha\, uma Vida\, um Legado
DESCRIPTION:
URL:https://www.arqshoah.com/evento/uma-marcha-uma-vida-um-legado/
LOCATION:Livraria da Vila – Shopping Patio Hienópolis\, Avenida Higienópolis\, 618\, São Paulo\, São Paulo\, 01238-001\, Brasil
CATEGORIES:Lançamento de Livro
ATTACH;FMTTYPE=image/jpeg:https://www.arqshoah.com/wp-content/uploads/2021/04/Uma-Marcha-uma-Vida-um-Legado.jpg
ORGANIZER;CN="Laborat%C3%B3rio de Estudos sobre Etnicidade%2C Racismo e Discrimina%C3%A7%C3%A3o":MAILTO:leer@usp.br
END:VEVENT
BEGIN:VEVENT
DTSTART;VALUE=DATE:20150421
DTEND;VALUE=DATE:20150422
DTSTAMP:20260423T103813
CREATED:20210501T222754Z
LAST-MODIFIED:20210508T221301Z
UID:537-1429574400-1429660799@www.arqshoah.com
SUMMARY:Resultado do Concurso de Redação 2013
DESCRIPTION:
URL:https://www.arqshoah.com/evento/resultado-do-concurso-de-redacao-2013/
CATEGORIES:Ação Educativa
END:VEVENT
BEGIN:VEVENT
DTSTART;VALUE=DATE:20150401
DTEND;VALUE=DATE:20150402
DTSTAMP:20260423T103813
CREATED:20210501T224352Z
LAST-MODIFIED:20210501T224625Z
UID:541-1427846400-1427932799@www.arqshoah.com
SUMMARY:Noite dos Cristais
DESCRIPTION:
URL:https://www.arqshoah.com/evento/noite-dos-cristais/
CATEGORIES:Ação Educativa
ATTACH;FMTTYPE=image/png:https://www.arqshoah.com/wp-content/uploads/2021/05/Noite-dos-Cristais.png
END:VEVENT
BEGIN:VEVENT
DTSTART;VALUE=DATE:20150311
DTEND;VALUE=DATE:20150411
DTSTAMP:20260423T103813
CREATED:20210501T223129Z
LAST-MODIFIED:20210501T223725Z
UID:539-1426032000-1428710399@www.arqshoah.com
SUMMARY:Mostra sobre o Holocausto
DESCRIPTION:
URL:https://www.arqshoah.com/evento/mostra-sobre-o-holocausto/
CATEGORIES:Ação Educativa
END:VEVENT
BEGIN:VEVENT
DTSTART;VALUE=DATE:20150127
DTEND;VALUE=DATE:20150128
DTSTAMP:20260423T103813
CREATED:20210501T202732Z
LAST-MODIFIED:20210501T223750Z
UID:482-1422316800-1422403199@www.arqshoah.com
SUMMARY:Dia Internacional em Homenagem às Vítimas do Holocausto
DESCRIPTION:
URL:https://www.arqshoah.com/evento/dia-internacional-em-homenagem-as-vitimas-do-holocausto/
CATEGORIES:Seminários Colóquios e Palestras
ATTACH;FMTTYPE=image/png:https://www.arqshoah.com/wp-content/uploads/2021/05/Dia-Internacional-em-Homenagem-às-Vítimas-do-Holocausto.png
ORGANIZER;CN="Laborat%C3%B3rio de Estudos sobre Etnicidade%2C Racismo e Discrimina%C3%A7%C3%A3o":MAILTO:leer@usp.br
END:VEVENT
BEGIN:VEVENT
DTSTART;TZID=America/Sao_Paulo:20130727T080000
DTEND;TZID=America/Sao_Paulo:20130727T180000
DTSTAMP:20260423T103813
CREATED:20210501T213743Z
LAST-MODIFIED:20210501T223838Z
UID:510-1374912000-1374948000@www.arqshoah.com
SUMMARY:XVI Jornada Interdisciplinar pelo Ensino do Holocausto em Defesa da Democracia e Cidadania
DESCRIPTION:
URL:https://www.arqshoah.com/evento/xvi-jornada-interdisciplinar-pelo-ensino-do-holocausto-em-defesa-da-democracia-e-cidadania/
CATEGORIES:Ação Educativa
ORGANIZER;CN="Laborat%C3%B3rio de Estudos sobre Etnicidade%2C Racismo e Discrimina%C3%A7%C3%A3o":MAILTO:leer@usp.br
END:VEVENT
END:VCALENDAR